BEGIN:VCALENDAR
VERSION:2.0
PRODID:-//Drupal//recurring_events_ical//2.0//EN
BEGIN:VEVENT
UID:304ca966-111d-4a5a-880f-2f70b81e5a71@events.stage.louisville.edu
DTSTAMP:20260424T193914Z
DTSTART:20240718T110000Z
DTEND:20240718T110000Z
SUMMARY:Testing Services
CONTACT:Tammy Jones-Scrogham\, 502-852-6606\, email:testing@louisville.edu
DESCRIPTION:Will you please add Testing Services as part of the offices lis
 ted in Davidson Hall?  Thank you!
URL:https://events.stage.louisville.edu/events/testing-services/2024-07-18
END:VEVENT
END:VCALENDAR