BEGIN:VCALENDAR
VERSION:2.0
PRODID:-//Drupal//recurring_events_ical//2.0//EN
BEGIN:VEVENT
UID:2740e3e8-fa2b-45e1-9995-b390b0d62698@events.stage.louisville.edu
DTSTAMP:20260424T193916Z
DTSTART:20240729T110000Z
DTEND:20240729T110000Z
SUMMARY:Testing Services
CONTACT:Tammy Jones-Scrogham\, 502-852-6606\, email:testing@louisville.edu
DESCRIPTION:Will you please add Testing Services as part of the offices lis
 ted in Davidson Hall?  Thank you!
URL:https://events.stage.louisville.edu/events/testing-services/2024-07-29
END:VEVENT
END:VCALENDAR