BEGIN:VCALENDAR
VERSION:2.0
PRODID:-//Drupal//recurring_events_ical//2.0//EN
BEGIN:VEVENT
UID:3e484e79-5931-42a9-82e5-82e771d25d00@events.stage.louisville.edu
DTSTAMP:20260424T193931Z
DTSTART:20240731T110000Z
DTEND:20240731T110000Z
SUMMARY:Testing Services
CONTACT:Tammy Jones-Scrogham\, 502-852-6606\, email:testing@louisville.edu
DESCRIPTION:Will you please add Testing Services as part of the offices lis
 ted in Davidson Hall?  Thank you!
URL:https://events.stage.louisville.edu/events/testing-services/2024-07-31
END:VEVENT
END:VCALENDAR