BEGIN:VCALENDAR
VERSION:2.0
PRODID:-//Drupal//recurring_events_ical//2.0//EN
BEGIN:VEVENT
UID:36403184-618e-4c86-889d-22bf64f1c44f@events.stage.louisville.edu
DTSTAMP:20260424T194029Z
DTSTART:20240826T110000Z
DTEND:20240826T110000Z
SUMMARY:Testing Services
CONTACT:Tammy Jones-Scrogham\, 502-852-6606\, email:testing@louisville.edu
DESCRIPTION:Will you please add Testing Services as part of the offices lis
 ted in Davidson Hall?  Thank you!
URL:https://events.stage.louisville.edu/events/testing-services/2024-08-26
END:VEVENT
END:VCALENDAR