BEGIN:VCALENDAR
VERSION:2.0
PRODID:-//Drupal//recurring_events_ical//2.0//EN
BEGIN:VEVENT
UID:a53aee49-8225-4cb8-8cf4-1b528d87581b@events.stage.louisville.edu
DTSTAMP:20260424T194241Z
DTSTART:20240912T110000Z
DTEND:20240912T110000Z
SUMMARY:Testing Services
CONTACT:Tammy Jones-Scrogham\, 502-852-6606\, email:testing@louisville.edu
DESCRIPTION:Will you please add Testing Services as part of the offices lis
 ted in Davidson Hall?  Thank you!
URL:https://events.stage.louisville.edu/events/testing-services/2024-09-12
END:VEVENT
END:VCALENDAR