BEGIN:VCALENDAR
VERSION:2.0
PRODID:-//Drupal//recurring_events_ical//2.0//EN
BEGIN:VEVENT
UID:bde1961b-a0d3-45b9-a1d1-eaee2aae8012@events.stage.louisville.edu
DTSTAMP:20260424T194045Z
DTSTART:20241003T110000Z
DTEND:20241003T110000Z
SUMMARY:Testing Services
CONTACT:Tammy Jones-Scrogham\, 502-852-6606\, email:testing@louisville.edu
DESCRIPTION:Will you please add Testing Services as part of the offices lis
 ted in Davidson Hall?  Thank you!
URL:https://events.stage.louisville.edu/events/testing-services/2024-10-03
END:VEVENT
END:VCALENDAR