BEGIN:VCALENDAR
VERSION:2.0
PRODID:-//Drupal//recurring_events_ical//2.0//EN
BEGIN:VEVENT
UID:e29c6653-33af-4f96-9b1c-931e781137d0@events.stage.louisville.edu
DTSTAMP:20260424T193912Z
DTSTART:20241007T110000Z
DTEND:20241007T110000Z
SUMMARY:Testing Services
CONTACT:Tammy Jones-Scrogham\, 502-852-6606\, email:testing@louisville.edu
DESCRIPTION:Will you please add Testing Services as part of the offices lis
 ted in Davidson Hall?  Thank you!
URL:https://events.stage.louisville.edu/events/testing-services/2024-10-07
END:VEVENT
END:VCALENDAR