BEGIN:VCALENDAR
VERSION:2.0
PRODID:-//Drupal//recurring_events_ical//2.0//EN
BEGIN:VEVENT
UID:34c82afd-8275-4446-a363-aba1a5cca6ce@events.stage.louisville.edu
DTSTAMP:20260424T194203Z
DTSTART:20241014T110000Z
DTEND:20241014T110000Z
SUMMARY:Testing Services
CONTACT:Tammy Jones-Scrogham\, 502-852-6606\, email:testing@louisville.edu
DESCRIPTION:Will you please add Testing Services as part of the offices lis
 ted in Davidson Hall?  Thank you!
URL:https://events.stage.louisville.edu/events/testing-services/2024-10-14
END:VEVENT
END:VCALENDAR