BEGIN:VCALENDAR
VERSION:2.0
PRODID:-//Drupal//recurring_events_ical//2.0//EN
BEGIN:VEVENT
UID:8459fe74-9fb7-4d27-9138-99a67e5480e0@events.stage.louisville.edu
DTSTAMP:20260424T194027Z
DTSTART:20241016T110000Z
DTEND:20241016T110000Z
SUMMARY:Testing Services
CONTACT:Tammy Jones-Scrogham\, 502-852-6606\, email:testing@louisville.edu
DESCRIPTION:Will you please add Testing Services as part of the offices lis
 ted in Davidson Hall?  Thank you!
URL:https://events.stage.louisville.edu/events/testing-services/2024-10-16
END:VEVENT
END:VCALENDAR