BEGIN:VCALENDAR
VERSION:2.0
PRODID:-//Drupal//recurring_events_ical//2.0//EN
BEGIN:VEVENT
UID:d6b14f17-e38f-4348-abc2-37623fa08a44@events.stage.louisville.edu
DTSTAMP:20260424T194043Z
DTSTART:20241017T110000Z
DTEND:20241017T110000Z
SUMMARY:Testing Services
CONTACT:Tammy Jones-Scrogham\, 502-852-6606\, email:testing@louisville.edu
DESCRIPTION:Will you please add Testing Services as part of the offices lis
 ted in Davidson Hall?  Thank you!
URL:https://events.stage.louisville.edu/events/testing-services/2024-10-17
END:VEVENT
END:VCALENDAR