BEGIN:VCALENDAR
VERSION:2.0
PRODID:-//Drupal//recurring_events_ical//2.0//EN
BEGIN:VEVENT
UID:34b2734e-523d-4d8a-a3c4-5121e7d07e05@events.stage.louisville.edu
DTSTAMP:20260424T194043Z
DTSTART:20241031T110000Z
DTEND:20241031T110000Z
SUMMARY:Testing Services
CONTACT:Tammy Jones-Scrogham\, 502-852-6606\, email:testing@louisville.edu
DESCRIPTION:Will you please add Testing Services as part of the offices lis
 ted in Davidson Hall?  Thank you!
URL:https://events.stage.louisville.edu/events/testing-services/2024-10-31
END:VEVENT
END:VCALENDAR