BEGIN:VCALENDAR
VERSION:2.0
PRODID:-//Drupal//recurring_events_ical//2.0//EN
BEGIN:VEVENT
UID:8f32fdba-f40e-488d-b13e-d0c5f137022e@events.stage.louisville.edu
DTSTAMP:20260424T194055Z
DTSTART:20241105T120000Z
DTEND:20241105T120000Z
SUMMARY:Testing Services
CONTACT:Tammy Jones-Scrogham\, 502-852-6606\, email:testing@louisville.edu
DESCRIPTION:Will you please add Testing Services as part of the offices lis
 ted in Davidson Hall?  Thank you!
URL:https://events.stage.louisville.edu/events/testing-services/2024-11-05
END:VEVENT
END:VCALENDAR