BEGIN:VCALENDAR
VERSION:2.0
PRODID:-//Drupal//recurring_events_ical//2.0//EN
BEGIN:VEVENT
UID:415d319f-c5df-49ba-ba1f-d8f1a8dd18ac@events.stage.louisville.edu
DTSTAMP:20260424T194054Z
DTSTART:20241113T120000Z
DTEND:20241113T120000Z
SUMMARY:Testing Services
CONTACT:Tammy Jones-Scrogham\, 502-852-6606\, email:testing@louisville.edu
DESCRIPTION:Will you please add Testing Services as part of the offices lis
 ted in Davidson Hall?  Thank you!
URL:https://events.stage.louisville.edu/events/testing-services/2024-11-13
END:VEVENT
END:VCALENDAR