BEGIN:VCALENDAR
VERSION:2.0
PRODID:-//Drupal//recurring_events_ical//2.0//EN
BEGIN:VEVENT
UID:ef32e0d2-e25d-4261-b7d3-59a50f068d9e@events.stage.louisville.edu
DTSTAMP:20260424T194214Z
DTSTART:20241114T120000Z
DTEND:20241114T120000Z
SUMMARY:Testing Services
CONTACT:Tammy Jones-Scrogham\, 502-852-6606\, email:testing@louisville.edu
DESCRIPTION:Will you please add Testing Services as part of the offices lis
 ted in Davidson Hall?  Thank you!
URL:https://events.stage.louisville.edu/events/testing-services/2024-11-14
END:VEVENT
END:VCALENDAR