BEGIN:VCALENDAR
VERSION:2.0
PRODID:-//Drupal//recurring_events_ical//2.0//EN
BEGIN:VEVENT
UID:2765ef72-e7c6-4180-8edc-6ae0d488a0ab@events.stage.louisville.edu
DTSTAMP:20260424T194204Z
DTSTART:20241120T120000Z
DTEND:20241120T120000Z
SUMMARY:Testing Services
CONTACT:Tammy Jones-Scrogham\, 502-852-6606\, email:testing@louisville.edu
DESCRIPTION:Will you please add Testing Services as part of the offices lis
 ted in Davidson Hall?  Thank you!
URL:https://events.stage.louisville.edu/events/testing-services/2024-11-20
END:VEVENT
END:VCALENDAR