BEGIN:VCALENDAR
VERSION:2.0
PRODID:-//Drupal//recurring_events_ical//2.0//EN
BEGIN:VEVENT
UID:b65c7788-b06f-4007-b5e6-6623f02da679@events.stage.louisville.edu
DTSTAMP:20260424T194201Z
DTSTART:20241125T120000Z
DTEND:20241125T120000Z
SUMMARY:Testing Services
CONTACT:Tammy Jones-Scrogham\, 502-852-6606\, email:testing@louisville.edu
DESCRIPTION:Will you please add Testing Services as part of the offices lis
 ted in Davidson Hall?  Thank you!
URL:https://events.stage.louisville.edu/events/testing-services/2024-11-25
END:VEVENT
END:VCALENDAR