BEGIN:VCALENDAR
VERSION:2.0
PRODID:-//Drupal//recurring_events_ical//2.0//EN
BEGIN:VEVENT
UID:3070b44c-3925-4fbf-8184-58e7c84dd413@events.stage.louisville.edu
DTSTAMP:20260424T194053Z
DTSTART:20241210T120000Z
DTEND:20241210T120000Z
SUMMARY:Testing Services
CONTACT:Tammy Jones-Scrogham\, 502-852-6606\, email:testing@louisville.edu
DESCRIPTION:Will you please add Testing Services as part of the offices lis
 ted in Davidson Hall?  Thank you!
URL:https://events.stage.louisville.edu/events/testing-services/2024-12-10
END:VEVENT
END:VCALENDAR