BEGIN:VCALENDAR
VERSION:2.0
PRODID:-//Drupal//recurring_events_ical//2.0//EN
BEGIN:VEVENT
UID:d497e431-8be0-446a-b9f9-a6b4652016d4@events.stage.louisville.edu
DTSTAMP:20260424T194058Z
DTSTART:20241216T120000Z
DTEND:20241216T120000Z
SUMMARY:Testing Services
CONTACT:Tammy Jones-Scrogham\, 502-852-6606\, email:testing@louisville.edu
DESCRIPTION:Will you please add Testing Services as part of the offices lis
 ted in Davidson Hall?  Thank you!
URL:https://events.stage.louisville.edu/events/testing-services/2024-12-16
END:VEVENT
END:VCALENDAR