BEGIN:VCALENDAR
VERSION:2.0
PRODID:-//Drupal//recurring_events_ical//2.0//EN
BEGIN:VEVENT
UID:7a118a13-1b58-48c4-94d1-f2e4f4131e2f@events.stage.louisville.edu
DTSTAMP:20260424T194059Z
DTSTART:20241218T120000Z
DTEND:20241218T120000Z
SUMMARY:Testing Services
CONTACT:Tammy Jones-Scrogham\, 502-852-6606\, email:testing@louisville.edu
DESCRIPTION:Will you please add Testing Services as part of the offices lis
 ted in Davidson Hall?  Thank you!
URL:https://events.stage.louisville.edu/events/testing-services/2024-12-18
END:VEVENT
END:VCALENDAR