BEGIN:VCALENDAR
VERSION:2.0
PRODID:-//Drupal//recurring_events_ical//2.0//EN
BEGIN:VEVENT
UID:7794d648-0cd2-4989-a99a-4705800cbf5b@events.stage.louisville.edu
DTSTAMP:20260424T194159Z
DTSTART:20241231T120000Z
DTEND:20241231T120000Z
SUMMARY:Testing Services
CONTACT:Tammy Jones-Scrogham\, 502-852-6606\, email:testing@louisville.edu
DESCRIPTION:Will you please add Testing Services as part of the offices lis
 ted in Davidson Hall?  Thank you!
URL:https://events.stage.louisville.edu/events/testing-services/2024-12-31
END:VEVENT
END:VCALENDAR