BEGIN:VCALENDAR
VERSION:2.0
PRODID:-//Drupal//recurring_events_ical//2.0//EN
BEGIN:VEVENT
UID:45c699a8-dc64-4969-8c26-a8849498491d@events.stage.louisville.edu
DTSTAMP:20260424T193905Z
DTSTART:20250101T120000Z
DTEND:20250101T120000Z
SUMMARY:Testing Services
CONTACT:Tammy Jones-Scrogham\, 502-852-6606\, email:testing@louisville.edu
DESCRIPTION:Will you please add Testing Services as part of the offices lis
 ted in Davidson Hall?  Thank you!
URL:https://events.stage.louisville.edu/events/testing-services/2025-01-01
END:VEVENT
END:VCALENDAR