BEGIN:VCALENDAR
VERSION:2.0
PRODID:-//Drupal//recurring_events_ical//2.0//EN
BEGIN:VEVENT
UID:61f274fd-b8ff-45b1-b497-9b721c37fd7a@events.stage.louisville.edu
DTSTAMP:20260424T194204Z
DTSTART:20250102T120000Z
DTEND:20250102T120000Z
SUMMARY:Testing Services
CONTACT:Tammy Jones-Scrogham\, 502-852-6606\, email:testing@louisville.edu
DESCRIPTION:Will you please add Testing Services as part of the offices lis
 ted in Davidson Hall?  Thank you!
URL:https://events.stage.louisville.edu/events/testing-services/2025-01-02
END:VEVENT
END:VCALENDAR