BEGIN:VCALENDAR
VERSION:2.0
PRODID:-//Drupal//recurring_events_ical//2.0//EN
BEGIN:VEVENT
UID:6cca4272-d19b-45ff-95f8-be7ce37c5fab@events.stage.louisville.edu
DTSTAMP:20260424T193905Z
DTSTART:20250106T120000Z
DTEND:20250106T120000Z
SUMMARY:Testing Services
CONTACT:Tammy Jones-Scrogham\, 502-852-6606\, email:testing@louisville.edu
DESCRIPTION:Will you please add Testing Services as part of the offices lis
 ted in Davidson Hall?  Thank you!
URL:https://events.stage.louisville.edu/events/testing-services/2025-01-06
END:VEVENT
END:VCALENDAR