BEGIN:VCALENDAR
VERSION:2.0
PRODID:-//Drupal//recurring_events_ical//2.0//EN
BEGIN:VEVENT
UID:0e00a047-f072-49c0-8658-44765909a4be@events.stage.louisville.edu
DTSTAMP:20260424T193905Z
DTSTART:20250108T120000Z
DTEND:20250108T120000Z
SUMMARY:Testing Services
CONTACT:Tammy Jones-Scrogham\, 502-852-6606\, email:testing@louisville.edu
DESCRIPTION:Will you please add Testing Services as part of the offices lis
 ted in Davidson Hall?  Thank you!
URL:https://events.stage.louisville.edu/events/testing-services/2025-01-08
END:VEVENT
END:VCALENDAR