BEGIN:VCALENDAR
VERSION:2.0
PRODID:-//Drupal//recurring_events_ical//2.0//EN
BEGIN:VEVENT
UID:bc85ec01-3de6-4688-b7e7-22124c59fa1b@events.stage.louisville.edu
DTSTAMP:20260424T194043Z
DTSTART:20250109T120000Z
DTEND:20250109T120000Z
SUMMARY:Testing Services
CONTACT:Tammy Jones-Scrogham\, 502-852-6606\, email:testing@louisville.edu
DESCRIPTION:Will you please add Testing Services as part of the offices lis
 ted in Davidson Hall?  Thank you!
URL:https://events.stage.louisville.edu/events/testing-services/2025-01-09
END:VEVENT
END:VCALENDAR