BEGIN:VCALENDAR
VERSION:2.0
PRODID:-//Drupal//recurring_events_ical//2.0//EN
BEGIN:VEVENT
UID:d356c3be-be3e-475d-b668-4c96dadc5c6f@events.stage.louisville.edu
DTSTAMP:20260424T193911Z
DTSTART:20250116T120000Z
DTEND:20250116T120000Z
SUMMARY:Testing Services
CONTACT:Tammy Jones-Scrogham\, 502-852-6606\, email:testing@louisville.edu
DESCRIPTION:Will you please add Testing Services as part of the offices lis
 ted in Davidson Hall?  Thank you!
URL:https://events.stage.louisville.edu/events/testing-services/2025-01-16
END:VEVENT
END:VCALENDAR