BEGIN:VCALENDAR
VERSION:2.0
PRODID:-//Drupal//recurring_events_ical//2.0//EN
BEGIN:VEVENT
UID:d0993364-ded1-4bdb-aabe-49eb25447166@events.stage.louisville.edu
DTSTAMP:20260424T193930Z
DTSTART:20250127T120000Z
DTEND:20250127T120000Z
SUMMARY:Testing Services
CONTACT:Tammy Jones-Scrogham\, 502-852-6606\, email:testing@louisville.edu
DESCRIPTION:Will you please add Testing Services as part of the offices lis
 ted in Davidson Hall?  Thank you!
URL:https://events.stage.louisville.edu/events/testing-services/2025-01-27
END:VEVENT
END:VCALENDAR