BEGIN:VCALENDAR
VERSION:2.0
PRODID:-//Drupal//recurring_events_ical//2.0//EN
BEGIN:VEVENT
UID:a2ec9ccf-1aec-4777-929d-cda265258dd5@events.stage.louisville.edu
DTSTAMP:20260424T193915Z
DTSTART:20250129T120000Z
DTEND:20250129T120000Z
SUMMARY:Testing Services
CONTACT:Tammy Jones-Scrogham\, 502-852-6606\, email:testing@louisville.edu
DESCRIPTION:Will you please add Testing Services as part of the offices lis
 ted in Davidson Hall?  Thank you!
URL:https://events.stage.louisville.edu/events/testing-services/2025-01-29
END:VEVENT
END:VCALENDAR