BEGIN:VCALENDAR
VERSION:2.0
PRODID:-//Drupal//recurring_events_ical//2.0//EN
BEGIN:VEVENT
UID:572d9b6d-13aa-45d6-86de-5e8bd6ed408e@events.stage.louisville.edu
DTSTAMP:20260424T194029Z
DTSTART:20250206T120000Z
DTEND:20250206T120000Z
SUMMARY:Testing Services
CONTACT:Tammy Jones-Scrogham\, 502-852-6606\, email:testing@louisville.edu
DESCRIPTION:Will you please add Testing Services as part of the offices lis
 ted in Davidson Hall?  Thank you!
URL:https://events.stage.louisville.edu/events/testing-services/2025-02-06
END:VEVENT
END:VCALENDAR