BEGIN:VCALENDAR
VERSION:2.0
PRODID:-//Drupal//recurring_events_ical//2.0//EN
BEGIN:VEVENT
UID:fe9849be-3fdc-43f7-86c9-ee63fcf70d24@events.stage.louisville.edu
DTSTAMP:20260424T194052Z
DTSTART:20250213T120000Z
DTEND:20250213T120000Z
SUMMARY:Testing Services
CONTACT:Tammy Jones-Scrogham\, 502-852-6606\, email:testing@louisville.edu
DESCRIPTION:Will you please add Testing Services as part of the offices lis
 ted in Davidson Hall?  Thank you!
URL:https://events.stage.louisville.edu/events/testing-services/2025-02-13
END:VEVENT
END:VCALENDAR