BEGIN:VCALENDAR
VERSION:2.0
PRODID:-//Drupal//recurring_events_ical//2.0//EN
BEGIN:VEVENT
UID:d759c955-80e4-4797-9bc5-6a5ee4bb056f@events.stage.louisville.edu
DTSTAMP:20260424T194201Z
DTSTART:20250227T120000Z
DTEND:20250227T120000Z
SUMMARY:Testing Services
CONTACT:Tammy Jones-Scrogham\, 502-852-6606\, email:testing@louisville.edu
DESCRIPTION:Will you please add Testing Services as part of the offices lis
 ted in Davidson Hall?  Thank you!
URL:https://events.stage.louisville.edu/events/testing-services/2025-02-27
END:VEVENT
END:VCALENDAR