BEGIN:VCALENDAR
VERSION:2.0
PRODID:-//Drupal//recurring_events_ical//2.0//EN
BEGIN:VEVENT
UID:faa35c96-4bba-4e39-b1cb-7976a5ce5ad9@events.stage.louisville.edu
DTSTAMP:20260424T194100Z
DTSTART:20250303T120000Z
DTEND:20250303T120000Z
SUMMARY:Testing Services
CONTACT:Tammy Jones-Scrogham\, 502-852-6606\, email:testing@louisville.edu
DESCRIPTION:Will you please add Testing Services as part of the offices lis
 ted in Davidson Hall?  Thank you!
URL:https://events.stage.louisville.edu/events/testing-services/2025-03-03
END:VEVENT
END:VCALENDAR