BEGIN:VCALENDAR
VERSION:2.0
PRODID:-//Drupal//recurring_events_ical//2.0//EN
BEGIN:VEVENT
UID:0b39085b-c363-406b-be32-d6c2e09c6bc5@events.stage.louisville.edu
DTSTAMP:20260424T194035Z
DTSTART:20250306T120000Z
DTEND:20250306T120000Z
SUMMARY:Testing Services
CONTACT:Tammy Jones-Scrogham\, 502-852-6606\, email:testing@louisville.edu
DESCRIPTION:Will you please add Testing Services as part of the offices lis
 ted in Davidson Hall?  Thank you!
URL:https://events.stage.louisville.edu/events/testing-services/2025-03-06
END:VEVENT
END:VCALENDAR