BEGIN:VCALENDAR
VERSION:2.0
PRODID:-//Drupal//recurring_events_ical//2.0//EN
BEGIN:VEVENT
UID:0763738f-6168-4f9e-93e5-831c420b5bfd@events.stage.louisville.edu
DTSTAMP:20260424T194058Z
DTSTART:20250317T110000Z
DTEND:20250317T110000Z
SUMMARY:Testing Services
CONTACT:Tammy Jones-Scrogham\, 502-852-6606\, email:testing@louisville.edu
DESCRIPTION:Will you please add Testing Services as part of the offices lis
 ted in Davidson Hall?  Thank you!
URL:https://events.stage.louisville.edu/events/testing-services/2025-03-17
END:VEVENT
END:VCALENDAR