BEGIN:VCALENDAR
VERSION:2.0
PRODID:-//Drupal//recurring_events_ical//2.0//EN
BEGIN:VEVENT
UID:7a9e1957-f421-4f99-a1cb-6308f59df667@events.stage.louisville.edu
DTSTAMP:20260424T194238Z
DTSTART:20250402T110000Z
DTEND:20250402T110000Z
SUMMARY:Testing Services
CONTACT:Tammy Jones-Scrogham\, 502-852-6606\, email:testing@louisville.edu
DESCRIPTION:Will you please add Testing Services as part of the offices lis
 ted in Davidson Hall?  Thank you!
URL:https://events.stage.louisville.edu/events/testing-services/2025-04-02
END:VEVENT
END:VCALENDAR