BEGIN:VCALENDAR
VERSION:2.0
PRODID:-//Drupal//recurring_events_ical//2.0//EN
BEGIN:VEVENT
UID:9fa40b34-c7cd-4bca-a316-f6dd34ea819e@events.stage.louisville.edu
DTSTAMP:20260424T194031Z
DTSTART:20250407T110000Z
DTEND:20250407T110000Z
SUMMARY:Testing Services
CONTACT:Tammy Jones-Scrogham\, 502-852-6606\, email:testing@louisville.edu
DESCRIPTION:Will you please add Testing Services as part of the offices lis
 ted in Davidson Hall?  Thank you!
URL:https://events.stage.louisville.edu/events/testing-services/2025-04-07
END:VEVENT
END:VCALENDAR