BEGIN:VCALENDAR
VERSION:2.0
PRODID:-//Drupal//recurring_events_ical//2.0//EN
BEGIN:VEVENT
UID:2ba98556-5de3-4c40-9e93-f1018d153d56@events.stage.louisville.edu
DTSTAMP:20260424T194050Z
DTSTART:20250408T110000Z
DTEND:20250408T110000Z
SUMMARY:Testing Services
CONTACT:Tammy Jones-Scrogham\, 502-852-6606\, email:testing@louisville.edu
DESCRIPTION:Will you please add Testing Services as part of the offices lis
 ted in Davidson Hall?  Thank you!
URL:https://events.stage.louisville.edu/events/testing-services/2025-04-08
END:VEVENT
END:VCALENDAR