BEGIN:VCALENDAR
VERSION:2.0
PRODID:-//Drupal//recurring_events_ical//2.0//EN
BEGIN:VEVENT
UID:f7dd2513-e2dc-4f90-8ece-6cff46a48407@events.stage.louisville.edu
DTSTAMP:20260424T194210Z
DTSTART:20250414T110000Z
DTEND:20250414T110000Z
SUMMARY:Testing Services
CONTACT:Tammy Jones-Scrogham\, 502-852-6606\, email:testing@louisville.edu
DESCRIPTION:Will you please add Testing Services as part of the offices lis
 ted in Davidson Hall?  Thank you!
URL:https://events.stage.louisville.edu/events/testing-services/2025-04-14
END:VEVENT
END:VCALENDAR