BEGIN:VCALENDAR
VERSION:2.0
PRODID:-//Drupal//recurring_events_ical//2.0//EN
BEGIN:VEVENT
UID:f26abb75-2cd2-4069-a38a-e26dc2a7868f@events.stage.louisville.edu
DTSTAMP:20260424T194217Z
DTSTART:20250424T110000Z
DTEND:20250424T110000Z
SUMMARY:Testing Services
CONTACT:Tammy Jones-Scrogham\, 502-852-6606\, email:testing@louisville.edu
DESCRIPTION:Will you please add Testing Services as part of the offices lis
 ted in Davidson Hall?  Thank you!
URL:https://events.stage.louisville.edu/events/testing-services/2025-04-24
END:VEVENT
END:VCALENDAR