BEGIN:VCALENDAR
VERSION:2.0
PRODID:-//Drupal//recurring_events_ical//2.0//EN
BEGIN:VEVENT
UID:d7882633-49d0-48b6-99a1-d1d62e84c09b@events.stage.louisville.edu
DTSTAMP:20260424T194045Z
DTSTART:20250428T110000Z
DTEND:20250428T110000Z
SUMMARY:Testing Services
CONTACT:Tammy Jones-Scrogham\, 502-852-6606\, email:testing@louisville.edu
DESCRIPTION:Will you please add Testing Services as part of the offices lis
 ted in Davidson Hall?  Thank you!
URL:https://events.stage.louisville.edu/events/testing-services/2025-04-28
END:VEVENT
END:VCALENDAR