BEGIN:VCALENDAR
VERSION:2.0
PRODID:-//Drupal//recurring_events_ical//2.0//EN
BEGIN:VEVENT
UID:4d0ad18c-33d8-406c-82a7-e8bca3e469b4@events.stage.louisville.edu
DTSTAMP:20260424T194042Z
DTSTART:20250429T110000Z
DTEND:20250429T110000Z
SUMMARY:Testing Services
CONTACT:Tammy Jones-Scrogham\, 502-852-6606\, email:testing@louisville.edu
DESCRIPTION:Will you please add Testing Services as part of the offices lis
 ted in Davidson Hall?  Thank you!
URL:https://events.stage.louisville.edu/events/testing-services/2025-04-29
END:VEVENT
END:VCALENDAR