BEGIN:VCALENDAR
VERSION:2.0
PRODID:-//Drupal//recurring_events_ical//2.0//EN
BEGIN:VEVENT
UID:461f0c0e-33a9-41c5-a6fb-6cfe548d706b@events.stage.louisville.edu
DTSTAMP:20260424T194201Z
DTSTART:20250430T110000Z
DTEND:20250430T110000Z
SUMMARY:Testing Services
CONTACT:Tammy Jones-Scrogham\, 502-852-6606\, email:testing@louisville.edu
DESCRIPTION:Will you please add Testing Services as part of the offices lis
 ted in Davidson Hall?  Thank you!
URL:https://events.stage.louisville.edu/events/testing-services/2025-04-30
END:VEVENT
END:VCALENDAR