BEGIN:VCALENDAR
VERSION:2.0
PRODID:-//Drupal//recurring_events_ical//2.0//EN
BEGIN:VEVENT
UID:93f7aa05-4e4f-4b98-a166-5f0adbc10cdb@events.stage.louisville.edu
DTSTAMP:20260424T193929Z
DTSTART:20250506T110000Z
DTEND:20250506T110000Z
SUMMARY:Testing Services
CONTACT:Tammy Jones-Scrogham\, 502-852-6606\, email:testing@louisville.edu
DESCRIPTION:Will you please add Testing Services as part of the offices lis
 ted in Davidson Hall?  Thank you!
URL:https://events.stage.louisville.edu/events/testing-services/2025-05-06
END:VEVENT
END:VCALENDAR