BEGIN:VCALENDAR
VERSION:2.0
PRODID:-//Drupal//recurring_events_ical//2.0//EN
BEGIN:VEVENT
UID:b4f2a270-8fed-4d3b-a5f1-7b9e50ecc6b9@events.stage.louisville.edu
DTSTAMP:20260424T194030Z
DTSTART:20250611T110000Z
DTEND:20250611T110000Z
SUMMARY:Testing Services
CONTACT:Tammy Jones-Scrogham\, 502-852-6606\, email:testing@louisville.edu
DESCRIPTION:Will you please add Testing Services as part of the offices lis
 ted in Davidson Hall?  Thank you!
URL:https://events.stage.louisville.edu/events/testing-services/2025-06-11
END:VEVENT
END:VCALENDAR