BEGIN:VCALENDAR
VERSION:2.0
PRODID:-//Drupal//recurring_events_ical//2.0//EN
BEGIN:VEVENT
UID:51070499-a349-47b2-ae99-b8f879b2c1ee@events.stage.louisville.edu
DTSTAMP:20260424T193931Z
DTSTART:20250616T110000Z
DTEND:20250616T110000Z
SUMMARY:Testing Services
CONTACT:Tammy Jones-Scrogham\, 502-852-6606\, email:testing@louisville.edu
DESCRIPTION:Will you please add Testing Services as part of the offices lis
 ted in Davidson Hall?  Thank you!
URL:https://events.stage.louisville.edu/events/testing-services/2025-06-16
END:VEVENT
END:VCALENDAR