BEGIN:VCALENDAR
VERSION:2.0
PRODID:-//Drupal//recurring_events_ical//2.0//EN
BEGIN:VEVENT
UID:7a73f3ae-c890-4a9a-aa99-023767511f48@events.stage.louisville.edu
DTSTAMP:20260424T193928Z
DTSTART:20250619T110000Z
DTEND:20250619T110000Z
SUMMARY:Testing Services
CONTACT:Tammy Jones-Scrogham\, 502-852-6606\, email:testing@louisville.edu
DESCRIPTION:Will you please add Testing Services as part of the offices lis
 ted in Davidson Hall?  Thank you!
URL:https://events.stage.louisville.edu/events/testing-services/2025-06-19
END:VEVENT
END:VCALENDAR