BEGIN:VCALENDAR
VERSION:2.0
PRODID:-//Drupal//recurring_events_ical//2.0//EN
BEGIN:VEVENT
UID:b01e1ebe-bc6b-49a8-8d65-7a8f14355015@events.stage.louisville.edu
DTSTAMP:20260424T194035Z
DTSTART:20250625T110000Z
DTEND:20250625T110000Z
SUMMARY:Testing Services
CONTACT:Tammy Jones-Scrogham\, 502-852-6606\, email:testing@louisville.edu
DESCRIPTION:Will you please add Testing Services as part of the offices lis
 ted in Davidson Hall?  Thank you!
URL:https://events.stage.louisville.edu/events/testing-services/2025-06-25
END:VEVENT
END:VCALENDAR