BEGIN:VCALENDAR
VERSION:2.0
PRODID:-//Drupal//recurring_events_ical//2.0//EN
BEGIN:VEVENT
UID:b2cdf04c-0c9e-4010-a5c6-868d64ad0c88@events.stage.louisville.edu
DTSTAMP:20260424T194030Z
DTSTART:20250626T110000Z
DTEND:20250626T110000Z
SUMMARY:Testing Services
CONTACT:Tammy Jones-Scrogham\, 502-852-6606\, email:testing@louisville.edu
DESCRIPTION:Will you please add Testing Services as part of the offices lis
 ted in Davidson Hall?  Thank you!
URL:https://events.stage.louisville.edu/events/testing-services/2025-06-26
END:VEVENT
END:VCALENDAR