BEGIN:VCALENDAR
VERSION:2.0
PRODID:-//Drupal//recurring_events_ical//2.0//EN
BEGIN:VEVENT
UID:e830c2b2-e890-4037-8e4a-5dc4e0c9d2ef@events.stage.louisville.edu
DTSTAMP:20260424T193907Z
DTSTART:20250701T110000Z
DTEND:20250701T110000Z
SUMMARY:Testing Services
CONTACT:Tammy Jones-Scrogham\, 502-852-6606\, email:testing@louisville.edu
DESCRIPTION:Will you please add Testing Services as part of the offices lis
 ted in Davidson Hall?  Thank you!
URL:https://events.stage.louisville.edu/events/testing-services/2025-07-01
END:VEVENT
END:VCALENDAR