BEGIN:VCALENDAR
VERSION:2.0
PRODID:-//Drupal//recurring_events_ical//2.0//EN
BEGIN:VEVENT
UID:4ae24136-8561-4a1e-a327-101159cbc19d@events.stage.louisville.edu
DTSTAMP:20260424T193913Z
DTSTART:20250723T110000Z
DTEND:20250723T110000Z
SUMMARY:Testing Services
CONTACT:Tammy Jones-Scrogham\, 502-852-6606\, email:testing@louisville.edu
DESCRIPTION:Will you please add Testing Services as part of the offices lis
 ted in Davidson Hall?  Thank you!
URL:https://events.stage.louisville.edu/events/testing-services/2025-07-23
END:VEVENT
END:VCALENDAR